BEGIN:VCALENDAR
VERSION:2.0
PRODID:-//NetAuktion//NONSGML NetAuktion//SV
METHOD:PUBLISH
BEGIN:VEVENT
UID:20260425T134252-1482621089-netauktion.se
DTSTAMP:20260425T134252
DTSTART:20090123T011300
DTEND:20090123T011600
SUMMARY:Netauktion objekt 0118-017 Auktionspåminnelse
DESCRIPTION:Länk till objektet du var intresserad av: https://staging.netauktion.se/auktion/produkt/4st-skrivbord-2
END:VEVENT
END:VCALENDAR
