BEGIN:VCALENDAR
VERSION:2.0
PRODID:-//NetAuktion//NONSGML NetAuktion//SV
METHOD:PUBLISH
BEGIN:VEVENT
UID:20260425T134313-394533863-netauktion.se
DTSTAMP:20260425T134313
DTSTART:20090123T011400
DTEND:20090123T011700
SUMMARY:Netauktion objekt 0118-018 Auktionspåminnelse
DESCRIPTION:Länk till objektet du var intresserad av: https://staging.netauktion.se/auktion/produkt/kombinationshyllor-ikea
END:VEVENT
END:VCALENDAR
