BEGIN:VCALENDAR
VERSION:2.0
PRODID:-//NetAuktion//NONSGML NetAuktion//SV
METHOD:PUBLISH
BEGIN:VEVENT
UID:20260425T134314-204236323-netauktion.se
DTSTAMP:20260425T134314
DTSTART:20090123T011500
DTEND:20090123T011800
SUMMARY:Netauktion objekt 0118-019 Auktionspåminnelse
DESCRIPTION:Länk till objektet du var intresserad av: https://staging.netauktion.se/auktion/produkt/kontorsbokhyllor
END:VEVENT
END:VCALENDAR
