BEGIN:VCALENDAR
VERSION:2.0
PRODID:-//NetAuktion//NONSGML NetAuktion//SV
METHOD:PUBLISH
BEGIN:VEVENT
UID:20260425T134314-1304725426-netauktion.se
DTSTAMP:20260425T134314
DTSTART:20090123T011900
DTEND:20090123T012200
SUMMARY:Netauktion objekt 0118-020 Auktionspåminnelse
DESCRIPTION:Länk till objektet du var intresserad av: https://staging.netauktion.se/auktion/produkt/kontorsutensilier
END:VEVENT
END:VCALENDAR
