BEGIN:VCALENDAR
VERSION:2.0
PRODID:-//NetAuktion//NONSGML NetAuktion//SV
METHOD:PUBLISH
BEGIN:VEVENT
UID:20260425T134348-1887920866-netauktion.se
DTSTAMP:20260425T134348
DTSTART:20090123T012000
DTEND:20090123T012300
SUMMARY:Netauktion objekt 0152-052 Auktionspåminnelse
DESCRIPTION:Länk till objektet du var intresserad av: https://staging.netauktion.se/auktion/produkt/100st-axe-click-eau-de-toilette-4
END:VEVENT
END:VCALENDAR
