BEGIN:VCALENDAR
VERSION:2.0
PRODID:-//NetAuktion//NONSGML NetAuktion//SV
METHOD:PUBLISH
BEGIN:VEVENT
UID:20260425T134315-1301283265-netauktion.se
DTSTAMP:20260425T134315
DTSTART:20090123T012700
DTEND:20090123T013000
SUMMARY:Netauktion objekt 0118-021 Auktionspåminnelse
DESCRIPTION:Länk till objektet du var intresserad av: https://staging.netauktion.se/auktion/produkt/kaffemuggar-glas-och-porslin
END:VEVENT
END:VCALENDAR
