BEGIN:VCALENDAR
VERSION:2.0
PRODID:-//NetAuktion//NONSGML NetAuktion//SV
METHOD:PUBLISH
BEGIN:VEVENT
UID:20260425T122043-558812573-netauktion.se
DTSTAMP:20260425T122043
DTSTART:20090128T012200
DTEND:20090128T012500
SUMMARY:Netauktion objekt 0167-025 Auktionspåminnelse
DESCRIPTION:Länk till objektet du var intresserad av: https://staging.netauktion.se/auktion/produkt/kemprodukter-for-betong
END:VEVENT
END:VCALENDAR
