BEGIN:VCALENDAR
VERSION:2.0
PRODID:-//NetAuktion//NONSGML NetAuktion//SV
METHOD:PUBLISH
BEGIN:VEVENT
UID:20260425T134250-1764398248-netauktion.se
DTSTAMP:20260425T134250
DTSTART:20090128T012400
DTEND:20090128T012700
SUMMARY:Netauktion objekt 0167-026 Auktionspåminnelse
DESCRIPTION:Länk till objektet du var intresserad av: https://staging.netauktion.se/auktion/produkt/diverse-kemprodukter
END:VEVENT
END:VCALENDAR
