BEGIN:VCALENDAR
VERSION:2.0
PRODID:-//NetAuktion//NONSGML NetAuktion//SV
METHOD:PUBLISH
BEGIN:VEVENT
UID:20260425T134348-436562199-netauktion.se
DTSTAMP:20260425T134348
DTSTART:20090128T013400
DTEND:20090128T013700
SUMMARY:Netauktion objekt 0167-030 Auktionspåminnelse
DESCRIPTION:Länk till objektet du var intresserad av: https://staging.netauktion.se/auktion/produkt/glasfibervav-upprullare-med-matfunktion
END:VEVENT
END:VCALENDAR
