BEGIN:VCALENDAR
VERSION:2.0
PRODID:-//NetAuktion//NONSGML NetAuktion//SV
METHOD:PUBLISH
BEGIN:VEVENT
UID:20260421T104621-2065782527-netauktion.se
DTSTAMP:20260421T104621
DTSTART:20110929T015900
DTEND:20110929T020200
SUMMARY:Netauktion objekt 0817-001 Auktionspåminnelse
DESCRIPTION:Länk till objektet du var intresserad av: https://staging.netauktion.se/auktion/produkt/3-lador-spritdrycker
END:VEVENT
END:VCALENDAR
