BEGIN:VCALENDAR
VERSION:2.0
PRODID:-//NetAuktion//NONSGML NetAuktion//SV
METHOD:PUBLISH
BEGIN:VEVENT
UID:20260425T134354-185390738-netauktion.se
DTSTAMP:20260425T134354
DTSTART:20090123T014800
DTEND:20090123T015100
SUMMARY:Netauktion objekt 0118-022 Auktionspåminnelse
DESCRIPTION:Länk till objektet du var intresserad av: https://staging.netauktion.se/auktion/produkt/3st-arbetstolar
END:VEVENT
END:VCALENDAR
