BEGIN:VCALENDAR
VERSION:2.0
PRODID:-//NetAuktion//NONSGML NetAuktion//SV
METHOD:PUBLISH
BEGIN:VEVENT
UID:20260425T134425-1159016665-netauktion.se
DTSTAMP:20260425T134425
DTSTART:20090123T013400
DTEND:20090123T013700
SUMMARY:Netauktion objekt 0130-006 Auktionspåminnelse
DESCRIPTION:Länk till objektet du var intresserad av: https://staging.netauktion.se/auktion/produkt/gallvade-pallstall
END:VEVENT
END:VCALENDAR
