BEGIN:VCALENDAR
VERSION:2.0
PRODID:-//NetAuktion//NONSGML NetAuktion//SV
METHOD:PUBLISH
BEGIN:VEVENT
UID:20260425T122022-1341692973-netauktion.se
DTSTAMP:20260425T122022
DTSTART:20090129T011400
DTEND:20090129T011700
SUMMARY:Netauktion objekt 0173-001 Auktionspåminnelse
DESCRIPTION:Länk till objektet du var intresserad av: https://staging.netauktion.se/auktion/produkt/ljusstakar-1-par-svenskt-stamplat-silver
END:VEVENT
END:VCALENDAR
