BEGIN:VCALENDAR
VERSION:2.0
PRODID:-//NetAuktion//NONSGML NetAuktion//SV
METHOD:PUBLISH
BEGIN:VEVENT
UID:20260421T104254-2030024520-netauktion.se
DTSTAMP:20260421T104254
DTSTART:20090130T005800
DTEND:20090130T010100
SUMMARY:Netauktion objekt 0168-002 Auktionspåminnelse
DESCRIPTION:Länk till objektet du var intresserad av: https://staging.netauktion.se/auktion/produkt/plastvaxter
END:VEVENT
END:VCALENDAR
