BEGIN:VCALENDAR
VERSION:2.0
PRODID:-//NetAuktion//NONSGML NetAuktion//SV
METHOD:PUBLISH
BEGIN:VEVENT
UID:20260421T104321-1991040977-netauktion.se
DTSTAMP:20260421T104321
DTSTART:20110428T035200
DTEND:20110428T035500
SUMMARY:Netauktion objekt 0778-162 Auktionspåminnelse
DESCRIPTION:Länk till objektet du var intresserad av: https://staging.netauktion.se/auktion/produkt/husqvarna-hagelgevar-20-repobjekt
END:VEVENT
END:VCALENDAR
