BEGIN:VCALENDAR
VERSION:2.0
PRODID:-//NetAuktion//NONSGML NetAuktion//SV
METHOD:PUBLISH
BEGIN:VEVENT
UID:20260421T104307-583738633-netauktion.se
DTSTAMP:20260421T104307
DTSTART:20090130T011000
DTEND:20090130T011300
SUMMARY:Netauktion objekt 0168-012 Auktionspåminnelse
DESCRIPTION:Länk till objektet du var intresserad av: https://staging.netauktion.se/auktion/produkt/brodlada-sopkarl-brabantia-7
END:VEVENT
END:VCALENDAR
