BEGIN:VCALENDAR
VERSION:2.0
PRODID:-//NetAuktion//NONSGML NetAuktion//SV
METHOD:PUBLISH
BEGIN:VEVENT
UID:20260421T104622-596304580-netauktion.se
DTSTAMP:20260421T104622
DTSTART:20110920T010600
DTEND:20110920T010900
SUMMARY:Netauktion objekt 0821-157 Auktionspåminnelse
DESCRIPTION:Länk till objektet du var intresserad av: https://staging.netauktion.se/auktion/produkt/4par-stl-40-damskor
END:VEVENT
END:VCALENDAR
