BEGIN:VCALENDAR
VERSION:2.0
PRODID:-//NetAuktion//NONSGML NetAuktion//SV
METHOD:PUBLISH
BEGIN:VEVENT
UID:20260421T104320-1068419333-netauktion.se
DTSTAMP:20260421T104320
DTSTART:20090130T013100
DTEND:20090130T013400
SUMMARY:Netauktion objekt 0168-033 Auktionspåminnelse
DESCRIPTION:Länk till objektet du var intresserad av: https://staging.netauktion.se/auktion/produkt/spotlights-skenor-2
END:VEVENT
END:VCALENDAR
