BEGIN:VCALENDAR
VERSION:2.0
PRODID:-//NetAuktion//NONSGML NetAuktion//SV
METHOD:PUBLISH
BEGIN:VEVENT
UID:20260421T104304-464134246-netauktion.se
DTSTAMP:20260421T104304
DTSTART:20080523T004300
DTEND:20080523T004600
SUMMARY:Netauktion objekt 0004-168 Auktionspåminnelse
DESCRIPTION:Länk till objektet du var intresserad av: https://staging.netauktion.se/auktion/produkt/anslagstavla
END:VEVENT
END:VCALENDAR
