BEGIN:VCALENDAR
VERSION:2.0
PRODID:-//NetAuktion//NONSGML NetAuktion//SV
METHOD:PUBLISH
BEGIN:VEVENT
UID:20260421T104308-414602259-netauktion.se
DTSTAMP:20260421T104308
DTSTART:20090130T014800
DTEND:20090130T015100
SUMMARY:Netauktion objekt 0168-047 Auktionspåminnelse
DESCRIPTION:Länk till objektet du var intresserad av: https://staging.netauktion.se/auktion/produkt/stearinljus
END:VEVENT
END:VCALENDAR
