BEGIN:VCALENDAR
VERSION:2.0
PRODID:-//NetAuktion//NONSGML NetAuktion//SV
METHOD:PUBLISH
BEGIN:VEVENT
UID:20260421T104354-1455852940-netauktion.se
DTSTAMP:20260421T104354
DTSTART:20090130T014600
DTEND:20090130T014900
SUMMARY:Netauktion objekt 0168-048 Auktionspåminnelse
DESCRIPTION:Länk till objektet du var intresserad av: https://staging.netauktion.se/auktion/produkt/hundkoja-magis
END:VEVENT
END:VCALENDAR
