BEGIN:VCALENDAR
VERSION:2.0
PRODID:-//NetAuktion//NONSGML NetAuktion//SV
METHOD:PUBLISH
BEGIN:VEVENT
UID:20260425T134252-2122896440-netauktion.se
DTSTAMP:20260425T134252
DTSTART:20090120T055700
DTEND:20090120T060000
SUMMARY:Netauktion objekt 0149-034 Auktionspåminnelse
DESCRIPTION:Länk till objektet du var intresserad av: https://staging.netauktion.se/auktion/produkt/0149-003-godisstall-for-butik-lag-modell
END:VEVENT
END:VCALENDAR
