BEGIN:VCALENDAR
VERSION:2.0
PRODID:-//NetAuktion//NONSGML NetAuktion//SV
METHOD:PUBLISH
BEGIN:VEVENT
UID:20260421T103257-1500934012-netauktion.se
DTSTAMP:20260421T103257
DTSTART:20110331T015900
DTEND:20110331T020200
SUMMARY:Netauktion objekt 0568-058 Auktionspåminnelse
DESCRIPTION:Länk till objektet du var intresserad av: https://staging.netauktion.se/auktion/produkt/tva-startmotorer-for-utombordare
END:VEVENT
END:VCALENDAR
