BEGIN:VCALENDAR
VERSION:2.0
PRODID:-//NetAuktion//NONSGML NetAuktion//SV
METHOD:PUBLISH
BEGIN:VEVENT
UID:20260421T103235-657142000-netauktion.se
DTSTAMP:20260421T103235
DTSTART:20110331T020000
DTEND:20110331T020300
SUMMARY:Netauktion objekt 0772-017 Auktionspåminnelse
DESCRIPTION:Länk till objektet du var intresserad av: https://staging.netauktion.se/auktion/produkt/ny-blandare-med-dusch-munstycke
END:VEVENT
END:VCALENDAR
