BEGIN:VCALENDAR
VERSION:2.0
PRODID:-//NetAuktion//NONSGML NetAuktion//SV
METHOD:PUBLISH
BEGIN:VEVENT
UID:20260421T104308-1674885802-netauktion.se
DTSTAMP:20260421T104308
DTSTART:20090130T025200
DTEND:20090130T025500
SUMMARY:Netauktion objekt 0128-040 Auktionspåminnelse
DESCRIPTION:Länk till objektet du var intresserad av: https://staging.netauktion.se/auktion/produkt/projektorduk-180x180cm-2
END:VEVENT
END:VCALENDAR
