BEGIN:VCALENDAR
VERSION:2.0
PRODID:-//NetAuktion//NONSGML NetAuktion//SV
METHOD:PUBLISH
BEGIN:VEVENT
UID:20260421T104310-1827140332-netauktion.se
DTSTAMP:20260421T104310
DTSTART:20090130T025100
DTEND:20090130T025400
SUMMARY:Netauktion objekt 0128-042 Auktionspåminnelse
DESCRIPTION:Länk till objektet du var intresserad av: https://staging.netauktion.se/auktion/produkt/projektorduk-139x240cm-2
END:VEVENT
END:VCALENDAR
