BEGIN:VCALENDAR
VERSION:2.0
PRODID:-//NetAuktion//NONSGML NetAuktion//SV
METHOD:PUBLISH
BEGIN:VEVENT
UID:20260421T104322-1351904436-netauktion.se
DTSTAMP:20260421T104322
DTSTART:20090130T025700
DTEND:20090130T030000
SUMMARY:Netauktion objekt 0128-050 Auktionspåminnelse
DESCRIPTION:Länk till objektet du var intresserad av: https://staging.netauktion.se/auktion/produkt/projektorduk-160x160cm-6
END:VEVENT
END:VCALENDAR
