BEGIN:VCALENDAR
VERSION:2.0
PRODID:-//NetAuktion//NONSGML NetAuktion//SV
METHOD:PUBLISH
BEGIN:VEVENT
UID:20260421T103316-1198081136-netauktion.se
DTSTAMP:20260421T103316
DTSTART:20090130T025900
DTEND:20090130T030200
SUMMARY:Netauktion objekt 0128-052 Auktionspåminnelse
DESCRIPTION:Länk till objektet du var intresserad av: https://staging.netauktion.se/auktion/produkt/projektorduk-213x163cm
END:VEVENT
END:VCALENDAR
