BEGIN:VCALENDAR
VERSION:2.0
PRODID:-//NetAuktion//NONSGML NetAuktion//SV
METHOD:PUBLISH
BEGIN:VEVENT
UID:20260421T104356-906530118-netauktion.se
DTSTAMP:20260421T104356
DTSTART:20090130T031100
DTEND:20090130T031400
SUMMARY:Netauktion objekt 0146-003 Auktionspåminnelse
DESCRIPTION:Länk till objektet du var intresserad av: https://staging.netauktion.se/auktion/produkt/pneumatisk-pall-lyftare-3
END:VEVENT
END:VCALENDAR
