BEGIN:VCALENDAR
VERSION:2.0
PRODID:-//NetAuktion//NONSGML NetAuktion//SV
METHOD:PUBLISH
BEGIN:VEVENT
UID:20260421T104447-2126622779-netauktion.se
DTSTAMP:20260421T104447
DTSTART:20110428T055700
DTEND:20110428T060000
SUMMARY:Netauktion objekt 0671-052 Auktionspåminnelse
DESCRIPTION:Länk till objektet du var intresserad av: https://staging.netauktion.se/auktion/produkt/varmepump-foma-for-160m-238
END:VEVENT
END:VCALENDAR
