BEGIN:VCALENDAR
VERSION:2.0
PRODID:-//NetAuktion//NONSGML NetAuktion//SV
METHOD:PUBLISH
BEGIN:VEVENT
UID:20260421T104438-1950430443-netauktion.se
DTSTAMP:20260421T104438
DTSTART:20110429T055700
DTEND:20110429T060000
SUMMARY:Netauktion objekt 0671-053 Auktionspåminnelse
DESCRIPTION:Länk till objektet du var intresserad av: https://staging.netauktion.se/auktion/produkt/varmepump-foma-for-160m-237
END:VEVENT
END:VCALENDAR
