BEGIN:VCALENDAR
VERSION:2.0
PRODID:-//NetAuktion//NONSGML NetAuktion//SV
METHOD:PUBLISH
BEGIN:VEVENT
UID:20260421T104353-1982528090-netauktion.se
DTSTAMP:20260421T104353
DTSTART:20110429T055700
DTEND:20110429T060000
SUMMARY:Netauktion objekt 0672-099 Auktionspåminnelse
DESCRIPTION:Länk till objektet du var intresserad av: https://staging.netauktion.se/auktion/produkt/foma-varmepump-for-200m-191
END:VEVENT
END:VCALENDAR
