BEGIN:VCALENDAR
VERSION:2.0
PRODID:-//NetAuktion//NONSGML NetAuktion//SV
METHOD:PUBLISH
BEGIN:VEVENT
UID:20260421T102932-1803651297-netauktion.se
DTSTAMP:20260421T102932
DTSTART:20110715T024900
DTEND:20110715T025200
SUMMARY:Netauktion objekt 0777-061 Auktionspåminnelse
DESCRIPTION:Länk till objektet du var intresserad av: https://staging.netauktion.se/auktion/produkt/serverskap-datorskarmar-mm
END:VEVENT
END:VCALENDAR
