BEGIN:VCALENDAR
VERSION:2.0
PRODID:-//NetAuktion//NONSGML NetAuktion//SV
METHOD:PUBLISH
BEGIN:VEVENT
UID:20260421T102837-1771180582-netauktion.se
DTSTAMP:20260421T102837
DTSTART:20090130T032100
DTEND:20090130T032400
SUMMARY:Netauktion objekt 0175-011 Auktionspåminnelse
DESCRIPTION:Länk till objektet du var intresserad av: https://staging.netauktion.se/auktion/produkt/9st-strandvaskor-orange-och-gron
END:VEVENT
END:VCALENDAR
