BEGIN:VCALENDAR
VERSION:2.0
PRODID:-//NetAuktion//NONSGML NetAuktion//SV
METHOD:PUBLISH
BEGIN:VEVENT
UID:20260421T104532-1950529843-netauktion.se
DTSTAMP:20260421T104532
DTSTART:20110429T021500
DTEND:20110429T021800
SUMMARY:Netauktion objekt 0585-068 Auktionspåminnelse
DESCRIPTION:Länk till objektet du var intresserad av: https://staging.netauktion.se/auktion/produkt/liggdelar-casualplay-mfl-5-st
END:VEVENT
END:VCALENDAR
