BEGIN:VCALENDAR
VERSION:2.0
PRODID:-//NetAuktion//NONSGML NetAuktion//SV
METHOD:PUBLISH
BEGIN:VEVENT
UID:20260421T102744-690705605-netauktion.se
DTSTAMP:20260421T102744
DTSTART:20110429T022100
DTEND:20110429T022400
SUMMARY:Netauktion objekt 0585-069 Auktionspåminnelse
DESCRIPTION:Länk till objektet du var intresserad av: https://staging.netauktion.se/auktion/produkt/liggdel-casualplay
END:VEVENT
END:VCALENDAR
