BEGIN:VCALENDAR
VERSION:2.0
PRODID:-//NetAuktion//NONSGML NetAuktion//SV
METHOD:PUBLISH
BEGIN:VEVENT
UID:20260421T103130-296189114-netauktion.se
DTSTAMP:20260421T103130
DTSTART:20110429T020500
DTEND:20110429T020800
SUMMARY:Netauktion objekt 0585-071 Auktionspåminnelse
DESCRIPTION:Länk till objektet du var intresserad av: https://staging.netauktion.se/auktion/produkt/bilbarnstol-casualplay
END:VEVENT
END:VCALENDAR
