BEGIN:VCALENDAR
VERSION:2.0
PRODID:-//NetAuktion//NONSGML NetAuktion//SV
METHOD:PUBLISH
BEGIN:VEVENT
UID:20260421T104309-1196090215-netauktion.se
DTSTAMP:20260421T104309
DTSTART:20090130T032600
DTEND:20090130T032900
SUMMARY:Netauktion objekt 0175-016 Auktionspåminnelse
DESCRIPTION:Länk till objektet du var intresserad av: https://staging.netauktion.se/auktion/produkt/40st-rislampor-med-motiv
END:VEVENT
END:VCALENDAR
