BEGIN:VCALENDAR
VERSION:2.0
PRODID:-//NetAuktion//NONSGML NetAuktion//SV
METHOD:PUBLISH
BEGIN:VEVENT
UID:20260421T104307-454078315-netauktion.se
DTSTAMP:20260421T104307
DTSTART:20090130T032900
DTEND:20090130T033200
SUMMARY:Netauktion objekt 0175-017 Auktionspåminnelse
DESCRIPTION:Länk till objektet du var intresserad av: https://staging.netauktion.se/auktion/produkt/30-par-dambyxor-strl-36-42
END:VEVENT
END:VCALENDAR
