BEGIN:VCALENDAR
VERSION:2.0
PRODID:-//NetAuktion//NONSGML NetAuktion//SV
METHOD:PUBLISH
BEGIN:VEVENT
UID:20260425T123244-1241480205-netauktion.se
DTSTAMP:20260425T123244
DTSTART:20090124T055700
DTEND:20090124T060000
SUMMARY:Netauktion objekt 0169-001 Auktionspåminnelse
DESCRIPTION:Länk till objektet du var intresserad av: https://staging.netauktion.se/auktion/produkt/direktforsaljning-kortbetalning
END:VEVENT
END:VCALENDAR
