BEGIN:VCALENDAR
VERSION:2.0
PRODID:-//NetAuktion//NONSGML NetAuktion//SV
METHOD:PUBLISH
BEGIN:VEVENT
UID:20260421T104438-205307976-netauktion.se
DTSTAMP:20260421T104438
DTSTART:20110530T055700
DTEND:20110530T060000
SUMMARY:Netauktion objekt 0618-027 Auktionspåminnelse
DESCRIPTION:Länk till objektet du var intresserad av: https://staging.netauktion.se/auktion/produkt/utomhusspa-balboa-7309
END:VEVENT
END:VCALENDAR
