BEGIN:VCALENDAR
VERSION:2.0
PRODID:-//NetAuktion//NONSGML NetAuktion//SV
METHOD:PUBLISH
BEGIN:VEVENT
UID:20260421T102839-1615680752-netauktion.se
DTSTAMP:20260421T102839
DTSTART:20110630T034700
DTEND:20110630T035000
SUMMARY:Netauktion objekt 0793-126 Auktionspåminnelse
DESCRIPTION:Länk till objektet du var intresserad av: https://staging.netauktion.se/auktion/produkt/g-star-jeansshorts-3
END:VEVENT
END:VCALENDAR
