BEGIN:VCALENDAR
VERSION:2.0
PRODID:-//NetAuktion//NONSGML NetAuktion//SV
METHOD:PUBLISH
BEGIN:VEVENT
UID:20260421T102835-1080948133-netauktion.se
DTSTAMP:20260421T102835
DTSTART:20110630T034100
DTEND:20110630T034400
SUMMARY:Netauktion objekt 0793-074 Auktionspåminnelse
DESCRIPTION:Länk till objektet du var intresserad av: https://staging.netauktion.se/auktion/produkt/diverse-damklader-4
END:VEVENT
END:VCALENDAR
