BEGIN:VCALENDAR
VERSION:2.0
PRODID:-//NetAuktion//NONSGML NetAuktion//SV
METHOD:PUBLISH
BEGIN:VEVENT
UID:20260421T102707-205185055-netauktion.se
DTSTAMP:20260421T102707
DTSTART:20110530T012700
DTEND:20110530T013000
SUMMARY:Netauktion objekt 0858-029 Auktionspåminnelse
DESCRIPTION:Länk till objektet du var intresserad av: https://staging.netauktion.se/auktion/produkt/pro-formance-adult-cat-3
END:VEVENT
END:VCALENDAR
