BEGIN:VCALENDAR
VERSION:2.0
PRODID:-//NetAuktion//NONSGML NetAuktion//SV
METHOD:PUBLISH
BEGIN:VEVENT
UID:20260421T104434-696786381-netauktion.se
DTSTAMP:20260421T104434
DTSTART:20110530T031000
DTEND:20110530T031300
SUMMARY:Netauktion objekt 0862-012 Auktionspåminnelse
DESCRIPTION:Länk till objektet du var intresserad av: https://staging.netauktion.se/auktion/produkt/latex-leggings-s-l
END:VEVENT
END:VCALENDAR
