BEGIN:VCALENDAR
VERSION:2.0
PRODID:-//NetAuktion//NONSGML NetAuktion//SV
METHOD:PUBLISH
BEGIN:VEVENT
UID:20260421T104434-1617509266-netauktion.se
DTSTAMP:20260421T104434
DTSTART:20110628T024700
DTEND:20110628T025000
SUMMARY:Netauktion objekt 0883-067 Auktionspåminnelse
DESCRIPTION:Länk till objektet du var intresserad av: https://staging.netauktion.se/auktion/produkt/hopfallbara-mobler-4-sits-21-7
END:VEVENT
END:VCALENDAR
