BEGIN:VCALENDAR
VERSION:2.0
PRODID:-//NetAuktion//NONSGML NetAuktion//SV
METHOD:PUBLISH
BEGIN:VEVENT
UID:20260421T104321-143265706-netauktion.se
DTSTAMP:20260421T104321
DTSTART:20110718T030500
DTEND:20110718T030800
SUMMARY:Netauktion objekt 0883-076 Auktionspåminnelse
DESCRIPTION:Länk till objektet du var intresserad av: https://staging.netauktion.se/auktion/produkt/hopfallbara-mobler-4-sits-21-16
END:VEVENT
END:VCALENDAR
