BEGIN:VCALENDAR
VERSION:2.0
PRODID:-//NetAuktion//NONSGML NetAuktion//SV
METHOD:PUBLISH
BEGIN:VEVENT
UID:20260421T102932-1278683883-netauktion.se
DTSTAMP:20260421T102932
DTSTART:20110718T030900
DTEND:20110718T031200
SUMMARY:Netauktion objekt 0883-077 Auktionspåminnelse
DESCRIPTION:Länk till objektet du var intresserad av: https://staging.netauktion.se/auktion/produkt/hopfallbara-mobler-4-sits-21-17
END:VEVENT
END:VCALENDAR
