BEGIN:VCALENDAR
VERSION:2.0
PRODID:-//NetAuktion//NONSGML NetAuktion//SV
METHOD:PUBLISH
BEGIN:VEVENT
UID:20260421T104446-639411323-netauktion.se
DTSTAMP:20260421T104446
DTSTART:20110628T024300
DTEND:20110628T024600
SUMMARY:Netauktion objekt 0883-048 Auktionspåminnelse
DESCRIPTION:Länk till objektet du var intresserad av: https://staging.netauktion.se/auktion/produkt/hopfallbara-mobler-3-sits-8
END:VEVENT
END:VCALENDAR
