BEGIN:VCALENDAR
VERSION:2.0
PRODID:-//NetAuktion//NONSGML NetAuktion//SV
METHOD:PUBLISH
BEGIN:VEVENT
UID:20260425T123426-1899823839-netauktion.se
DTSTAMP:20260425T123426
DTSTART:20090125T015700
DTEND:20090125T020000
SUMMARY:Netauktion objekt 0169-002 Auktionspåminnelse
DESCRIPTION:Länk till objektet du var intresserad av: https://staging.netauktion.se/auktion/produkt/direkforsaljning-kontantbetalning
END:VEVENT
END:VCALENDAR
